BEGIN:VCALENDAR
VERSION:2.0
PRODID:-//ical.marudot.com//iCal Event Maker
CALSCALE:GREGORIAN
BEGIN:VTIMEZONE
TZID:Europe/London
LAST-MODIFIED:20250410T142247Z
TZURL:https://www.tzurl.org/zoneinfo-outlook/Europe/London
X-LIC-LOCATION:Europe/London
BEGIN:DAYLIGHT
TZNAME:BST
TZOFFSETFROM:+0000
TZOFFSETTO:+0100
DTSTART:19700329T010000
RRULE:FREQ=YEARLY;BYMONTH=3;BYDAY=-1SU
END:DAYLIGHT
BEGIN:STANDARD
TZNAME:GMT
TZOFFSETFROM:+0100
TZOFFSETTO:+0000
DTSTART:19701025T020000
RRULE:FREQ=YEARLY;BYMONTH=10;BYDAY=-1SU
END:STANDARD
END:VTIMEZONE
BEGIN:VEVENT
DTSTAMP:20260417T093144Z
UID:1774955661864-58796@ical.marudot.com
DTSTART;TZID=Europe/London:20260513T150000
DTEND;TZID=Europe/London:20260513T190000
SUMMARY:EU 2025 Annual Data & Insights Report Launch\, Brussels
URL:https://maps.app.goo.gl/MGdszB4wR6zFFKyz9
LOCATION:Skyline\, Rue de Trèves 74\, 1040 Bruxelles\, Belgium
TRANSP:OPAQUE
X-MICROSOFT-CDO-BUSYSTATUS:BUSY
BEGIN:VALARM
ACTION:DISPLAY
DESCRIPTION:EU 2025 Annual Data & Insights Report Launch, Brussels
TRIGGER:-PT1H
END:VALARM
BEGIN:VALARM
ACTION:DISPLAY
DESCRIPTION:EU 2025 Annual Data & Insights Report Launch, Brussels
TRIGGER:-P1D
END:VALARM
END:VEVENT
END:VCALENDAR